BEGIN:VCALENDAR
VERSION:2.0
PRODID:-//Date iCal//NONSGML kigkonsult.se iCalcreator 2.20.2//
METHOD:PUBLISH
BEGIN:VTIMEZONE
TZID:Asia/Seoul
BEGIN:STANDARD
DTSTART:19881009T030000
TZOFFSETFROM:+1000
TZOFFSETTO:+0900
TZNAME:KST
END:STANDARD
END:VTIMEZONE
BEGIN:VEVENT
UID:calendar.14585.field_date_content.0@www.greenclimate.fund
DTSTAMP:20260421T040031Z
CREATED:20221122T074123Z
DESCRIPTION:The Green Climate Fund (GCF) Secretariat announced a Call for P
 ublic Inputs for the third stage of the development of the GCF’s ESS on 6 
 October 2022. The full draft is annexed to the Call for Inputs. The red li
 ne version of the Standards is also available here.
DTSTART;TZID=Asia/Seoul:20221208T000000
DTEND;TZID=Asia/Seoul:20221208T000000
LAST-MODIFIED:20221215T093030Z
LOCATION:Virtual
SUMMARY:Virtual Stakeholder Consultation on the development of the GCF’s ne
 w ESS – Stage 3: Proposed full draft
URL;TYPE=URI:https://www.greenclimate.fund/event/virtual-stakeholder-consul
 tation-development-gcf-s-new-ess-stage-3-proposed-full-draft
END:VEVENT
END:VCALENDAR
