BEGIN:VCALENDAR
VERSION:2.0
PRODID:-//Date iCal//NONSGML kigkonsult.se iCalcreator 2.20.2//
METHOD:PUBLISH
BEGIN:VTIMEZONE
TZID:Asia/Seoul
BEGIN:STANDARD
DTSTART:19881009T030000
TZOFFSETFROM:+1000
TZOFFSETTO:+0900
TZNAME:KST
END:STANDARD
END:VTIMEZONE
BEGIN:VEVENT
UID:calendar.14569.field_date_content.0@www.greenclimate.fund
DTSTAMP:20260423T113526Z
CREATED:20221110T072905Z
DESCRIPTION:The GCF Secretariat has been expanding the portfolio performanc
 e management system (PPMS) in phases to support implementation-related pro
 cesses for both funded activities and the Readiness Programme since its of
 ficial launch in January 2021. In particular\, the PPMS for the Readiness 
 and Preparatory Support Programme was soft-launched in July 2022 and the d
 isbursement module was launched in October 2022.   
DTSTART;TZID=Asia/Seoul:20221124T000000
DTEND;TZID=Asia/Seoul:20221124T000000
LAST-MODIFIED:20221125T060612Z
LOCATION:Virtual
SUMMARY:GCF’s PPMS Readiness Report Module Webinar
URL;TYPE=URI:https://www.greenclimate.fund/event/gcf-s-ppms-readiness-repor
 t-module-webinar
END:VEVENT
END:VCALENDAR
