BEGIN:VCALENDAR
VERSION:2.0
PRODID:-//Date iCal//NONSGML kigkonsult.se iCalcreator 2.20.2//
METHOD:PUBLISH
BEGIN:VTIMEZONE
TZID:Asia/Seoul
BEGIN:STANDARD
DTSTART:19881009T030000
TZOFFSETFROM:+1000
TZOFFSETTO:+0900
TZNAME:KST
END:STANDARD
END:VTIMEZONE
BEGIN:VEVENT
UID:calendar.14539.field_date_content.0@www.greenclimate.fund
DTSTAMP:20260421T024903Z
CREATED:20221101T102037Z
DESCRIPTION:The second replenishment (GCF-2) process was launched in July 2
 022 by decision B.33/11 of the GCF Board. GCF-2 consists of a series of or
 ganisational and consultation meetings and will be ending with a pledging 
 conference in the second half of 2023. The initial organisational meeting 
 took place on 30-31 August 2022\, and the first consultation meeting will 
 take place on 1-2 December 2022.
DTSTART;TZID=Asia/Seoul:20221201T000000
DTEND;TZID=Asia/Seoul:20221201T000000
LAST-MODIFIED:20221101T102037Z
LOCATION:Virtual
SUMMARY:GCF-2 first consultation meeting
URL;TYPE=URI:https://www.greenclimate.fund/event/gcf-2-first-consultation-m
 eeting
END:VEVENT
END:VCALENDAR
