BEGIN:VCALENDAR
VERSION:2.0
PRODID:-//Date iCal//NONSGML kigkonsult.se iCalcreator 2.20.2//
METHOD:PUBLISH
BEGIN:VTIMEZONE
TZID:Asia/Seoul
BEGIN:STANDARD
DTSTART:19881009T030000
TZOFFSETFROM:+1000
TZOFFSETTO:+0900
TZNAME:KST
END:STANDARD
END:VTIMEZONE
BEGIN:VEVENT
UID:calendar.14390.field_date_content.0@www.greenclimate.fund
DTSTAMP:20260421T042703Z
CREATED:20221004T070136Z
DESCRIPTION:Following its official launch in January 2021\, the GCF Secreta
 riat is expanding the portfolio performance management system (PPMS) in ph
 ases to support implementation-related processes for funded activities and
  the Readiness Programme.  The PPMS currently contains any number of modul
 es including those for submissions for Annual Performance Reports\, incept
 ion reports\, semi-annual financial information reports\, annual financial
  statements\, interim/final evaluation reports\, and waiver/extension requ
 ests for the report submission.  
DTSTART;TZID=Asia/Seoul:20221012T000000
DTEND;TZID=Asia/Seoul:20221012T000000
LAST-MODIFIED:20230302T021747Z
LOCATION:Virtual
SUMMARY:GCF’s PPMS disbursement module webinar
URL;TYPE=URI:https://www.greenclimate.fund/event/gcf-s-ppms-disbursement-mo
 dule-webinar
END:VEVENT
END:VCALENDAR
