BEGIN:VCALENDAR
VERSION:2.0
PRODID:-//Date iCal//NONSGML kigkonsult.se iCalcreator 2.20.2//
METHOD:PUBLISH
BEGIN:VTIMEZONE
TZID:Asia/Seoul
BEGIN:STANDARD
DTSTART:19881009T030000
TZOFFSETFROM:+1000
TZOFFSETTO:+0900
TZNAME:KST
END:STANDARD
END:VTIMEZONE
BEGIN:VEVENT
UID:calendar.14144.field_date_content.0@www.greenclimate.fund
DTSTAMP:20260423T073922Z
CREATED:20220725T090117Z
DESCRIPTION:Join us for the fifth annual GCF Private Investment for Climate
  Conference (GPIC). A flagship event that gathers global leaders from the 
 private and public sectors to accelerate private finance for climate actio
 n in developing countries.\n\n\nGPIC 2022 convened global leaders\, execut
 ives\, and experts from businesses\, governments\, financial institutions\
 , and technology companies to accelerate private sector-driven climate act
 ion for developing countries. Key areas included adaptation\, ecosystem-ba
 sed solutions\, and innovative technologies.
DTSTART;TZID=Asia/Seoul:20220915T000000
DTEND;TZID=Asia/Seoul:20220915T000000
LAST-MODIFIED:20250715T054441Z
LOCATION:Incheon\, Republic of Korea
SUMMARY:GCF Private Investment for Climate Conference 2022
URL;TYPE=URI:https://www.greenclimate.fund/event/gcf-private-investment-cli
 mate-conference-2022
END:VEVENT
END:VCALENDAR
