BEGIN:VCALENDAR
VERSION:2.0
PRODID:-//Date iCal//NONSGML kigkonsult.se iCalcreator 2.20.2//
METHOD:PUBLISH
BEGIN:VTIMEZONE
TZID:Asia/Seoul
BEGIN:STANDARD
DTSTART:19881009T030000
TZOFFSETFROM:+1000
TZOFFSETTO:+0900
TZNAME:KST
END:STANDARD
END:VTIMEZONE
BEGIN:VEVENT
UID:calendar.14143.field_date_content.0@www.greenclimate.fund
DTSTAMP:20260423T161857Z
CREATED:20220725T065549Z
DESCRIPTION:The second GCF Global Programming Conference will be held from 
 13 to 15 September 2022 in Incheon\, Republic of Korea.  \n\n\n\nThe Confe
 rence will bring together Ministers\, GCF National Designated Authorities 
 (NDA) or Focal Points (FP)\, Accredited Entities and Delivery Partners\, t
 o provide a platform for high-level dialogue on translating long-term low-
 emission and climate resilient strategies into investment plans.
DTSTART;TZID=Asia/Seoul:20220913T000000
DTEND;TZID=Asia/Seoul:20220913T000000
LAST-MODIFIED:20250715T050705Z
LOCATION:Incheon\, Republic of Korea
SUMMARY:GCF Global Programming Conference 2022
URL;TYPE=URI:https://www.greenclimate.fund/event/gcf-global-programming-con
 ference-2022
END:VEVENT
END:VCALENDAR
