BEGIN:VCALENDAR
VERSION:2.0
PRODID:-//Date iCal//NONSGML kigkonsult.se iCalcreator 2.20.2//
METHOD:PUBLISH
BEGIN:VTIMEZONE
TZID:Asia/Seoul
BEGIN:STANDARD
DTSTART:19881009T030000
TZOFFSETFROM:+1000
TZOFFSETTO:+0900
TZNAME:KST
END:STANDARD
END:VTIMEZONE
BEGIN:VEVENT
UID:calendar.14027.field_date_content.0@www.greenclimate.fund
DTSTAMP:20260423T114821Z
CREATED:20220705T091949Z
DESCRIPTION:NDAs are key stakeholders to manage the relationship between th
 e GCF and respective countries. Strategically important tasks of the NDA o
 ffice require a team of individuals who have substantial knowledge about t
 he GCF\, its processes and modalities. To support the NDAs more effectivel
 y\, an online training programme specifically targeted to them has been de
 veloped by the Frankfurt School of Finance and Management in four language
 s: English\, French\, Spanish and Arabic.
DTSTART;TZID=Asia/Seoul:20220823T000000
DTEND;TZID=Asia/Seoul:20220823T000000
LAST-MODIFIED:20220913T024739Z
LOCATION:Virtual
SUMMARY:Introductory Webinar on the GCF iLearn platform for National Design
 ated Authorities (NDAs)
URL;TYPE=URI:https://www.greenclimate.fund/event/introductory-webinar-gcf-i
 learn-platform-national-designated-authorities-ndas
END:VEVENT
END:VCALENDAR
