BEGIN:VCALENDAR
VERSION:2.0
PRODID:-//Date iCal//NONSGML kigkonsult.se iCalcreator 2.20.2//
METHOD:PUBLISH
BEGIN:VTIMEZONE
TZID:Asia/Seoul
BEGIN:STANDARD
DTSTART:19881009T030000
TZOFFSETFROM:+1000
TZOFFSETTO:+0900
TZNAME:KST
END:STANDARD
END:VTIMEZONE
BEGIN:VEVENT
UID:calendar.14010.field_date_content.0@www.greenclimate.fund
DTSTAMP:20260423T131101Z
CREATED:20220630T090336Z
DESCRIPTION:Introductory webinar on the implementation of the Readiness Res
 ults Management Framework (RRMF) introduces for the first time the newly a
 dopted RRMF which is planned to be used in all new GCF Readiness Proposals
  and for reporting against existing grants. The RRMF focuses on capturing 
 and measuring results of the readiness support across the five Board-appro
 ved readiness objectives: 1. Capacity building\; 2. Strategic framework\; 
 3. NAP and NAP Process\; 4. Pipeline development\; and 5. Knowledge sharin
 g and Learning.
DTSTART;TZID=Asia/Seoul:20220706T000000
DTEND;TZID=Asia/Seoul:20220706T000000
LAST-MODIFIED:20230308T021943Z
LOCATION:Virtual\, 8:00 - 10:00 am KST
SUMMARY:GCF webinar on the Readiness Results Management Framework (RRMF)
URL;TYPE=URI:https://www.greenclimate.fund/event/gcf-webinar-readiness-resu
 lts-management-framework-rrmf
END:VEVENT
END:VCALENDAR
