BEGIN:VCALENDAR
VERSION:2.0
PRODID:-//Date iCal//NONSGML kigkonsult.se iCalcreator 2.20.2//
METHOD:PUBLISH
BEGIN:VTIMEZONE
TZID:Asia/Seoul
BEGIN:STANDARD
DTSTART:19881009T030000
TZOFFSETFROM:+1000
TZOFFSETTO:+0900
TZNAME:KST
END:STANDARD
END:VTIMEZONE
BEGIN:VEVENT
UID:calendar.13965.field_date_content.0@www.greenclimate.fund
DTSTAMP:20260424T082257Z
CREATED:20220622T063532Z
DESCRIPTION:The GCF Board adopted the Update of the Simplified Approval Pro
 cess (SAP) policy at the thirty-second meeting of the GCF Board (B.32) hel
 d on 16-19 May 2022. \n\n\n\nThe Introductory Webinar on the Update of the
  Simplified Approval Process (SAP) policy will provide an introduction to 
 the changes approved in the SAP policy at B.32 including\, the key decisio
 n points\, changes to the eligibility requirements for SAP projects/progra
 mmes\, and the Secretariat simplification measures. The webinar will suppo
 rt AEs in their development of SAP concept notes and funding proposals. 
DTSTART;TZID=Asia/Seoul:20220707T000000
DTEND;TZID=Asia/Seoul:20220707T000000
LAST-MODIFIED:20220712T082523Z
LOCATION:Virtual\, 21:00 – 22:00 KST
SUMMARY:Introductory Webinar on the Update of the Simplified Approval Proce
 ss (SAP) policy
URL;TYPE=URI:https://www.greenclimate.fund/event/introductory-webinar-updat
 e-simplified-approval-process-sap-policy
END:VEVENT
END:VCALENDAR
