BEGIN:VCALENDAR
VERSION:2.0
PRODID:-//Date iCal//NONSGML kigkonsult.se iCalcreator 2.20.2//
METHOD:PUBLISH
BEGIN:VTIMEZONE
TZID:Asia/Seoul
BEGIN:STANDARD
DTSTART:19881009T030000
TZOFFSETFROM:+1000
TZOFFSETTO:+0900
TZNAME:KST
END:STANDARD
END:VTIMEZONE
BEGIN:VEVENT
UID:calendar.13724.field_date_content.0@www.greenclimate.fund
DTSTAMP:20260423T202747Z
CREATED:20220513T013112Z
DESCRIPTION:The GCF Evaluation policy was approved by the B.BM-2021/17 and 
 came into effect on 4 May 2022. \n\n\n\nIt sets up a framework to help the
  GCF and its stakeholders produce and use high-quality evaluations to asse
 ss the results\, performance\, efficiency\, and effectiveness of the GCF c
 redibly and objectively in delivering its mandate.
DTSTART;TZID=Asia/Seoul:20220607T000000
DTEND;TZID=Asia/Seoul:20220607T000000
LAST-MODIFIED:20220630T072659Z
LOCATION:Virtual
SUMMARY:Introductory Webinar on the GCF Evaluation policy
URL;TYPE=URI:https://www.greenclimate.fund/event/introductory-webinar-gcf-e
 valuation-policy
END:VEVENT
END:VCALENDAR
