BEGIN:VCALENDAR
VERSION:2.0
PRODID:-//Date iCal//NONSGML kigkonsult.se iCalcreator 2.20.2//
METHOD:PUBLISH
BEGIN:VTIMEZONE
TZID:Asia/Seoul
BEGIN:STANDARD
DTSTART:19881009T030000
TZOFFSETFROM:+1000
TZOFFSETTO:+0900
TZNAME:KST
END:STANDARD
END:VTIMEZONE
BEGIN:VEVENT
UID:calendar.13722.field_date_content.0@www.greenclimate.fund
DTSTAMP:20260421T053821Z
CREATED:20220511T021422Z
DESCRIPTION:In connection with the GCF Sectoral Guides Consultation launche
 d on 6 May 2022\, this webinar will present the draft GCF Sectoral Guide o
 n Climate Information & Early Warning Systems Draft and include a Q&A sess
 ion. 
DTSTART;TZID=Asia/Seoul:20220602T000000
DTEND;TZID=Asia/Seoul:20220602T000000
LAST-MODIFIED:20220922T093830Z
LOCATION:Virtual
SUMMARY:Introductory webinar on the draft GCF Sectoral Guide: Climate Infor
 mation & Early Warning Systems
URL;TYPE=URI:https://www.greenclimate.fund/event/introductory-webinar-draft
 -gcf-sectoral-guide-climate-information-early-warning-systems
END:VEVENT
END:VCALENDAR
