BEGIN:VCALENDAR
VERSION:2.0
PRODID:-//Date iCal//NONSGML kigkonsult.se iCalcreator 2.20.2//
METHOD:PUBLISH
BEGIN:VTIMEZONE
TZID:Asia/Seoul
BEGIN:STANDARD
DTSTART:19881009T030000
TZOFFSETFROM:+1000
TZOFFSETTO:+0900
TZNAME:KST
END:STANDARD
END:VTIMEZONE
BEGIN:VEVENT
UID:calendar.13721.field_date_content.0@www.greenclimate.fund
DTSTAMP:20260423T202644Z
CREATED:20220511T021107Z
DESCRIPTION:In connection with the GCF Sectoral Guides Consultation launche
 d on 6 May 2022\, this webinar will present the draft GCF Sectoral Guide o
 n Energy Efficiency Draft and include a Q&A session. 
DTSTART;TZID=Asia/Seoul:20220601T000000
DTEND;TZID=Asia/Seoul:20220601T000000
LAST-MODIFIED:20220922T093808Z
LOCATION:Virtual
SUMMARY:Introductory webinar on the draft GCF Sectoral Guide: Energy Effici
 ency
URL;TYPE=URI:https://www.greenclimate.fund/event/introductory-webinar-draft
 -gcf-sectoral-guide-energy-efficiency
END:VEVENT
END:VCALENDAR
