BEGIN:VCALENDAR
VERSION:2.0
PRODID:-//Date iCal//NONSGML kigkonsult.se iCalcreator 2.20.2//
METHOD:PUBLISH
BEGIN:VTIMEZONE
TZID:Asia/Seoul
BEGIN:STANDARD
DTSTART:19881009T030000
TZOFFSETFROM:+1000
TZOFFSETTO:+0900
TZNAME:KST
END:STANDARD
END:VTIMEZONE
BEGIN:VEVENT
UID:calendar.13692.field_date_content.0@www.greenclimate.fund
DTSTAMP:20260421T045016Z
CREATED:20220429T082212Z
DESCRIPTION:The Technical Programming Dialogue will bring together National
  Designated Authorities\, Direct Access Entities\, and other GCF stakehold
 ers\, to provide a platform for prioritizing access to and mobilization of
   climate finance and technical assistance for identified priority innovat
 ive and transformation projects for a low carbon and climate resilient Car
 ibbean. 
DTSTART;TZID=Asia/Seoul:20220519T000000
DTEND;TZID=Asia/Seoul:20220519T000000
LAST-MODIFIED:20220613T055203Z
LOCATION:Antigua and Barbuda
SUMMARY:GCF Technical Programming Dialogue with the Caribbean
URL;TYPE=URI:https://www.greenclimate.fund/event/gcf-technical-programming-
 dialogue-caribbean
END:VEVENT
END:VCALENDAR
