BEGIN:VCALENDAR
VERSION:2.0
PRODID:-//Date iCal//NONSGML kigkonsult.se iCalcreator 2.20.2//
METHOD:PUBLISH
BEGIN:VTIMEZONE
TZID:Asia/Seoul
BEGIN:STANDARD
DTSTART:19881009T030000
TZOFFSETFROM:+1000
TZOFFSETTO:+0900
TZNAME:KST
END:STANDARD
END:VTIMEZONE
BEGIN:VEVENT
UID:calendar.13691.field_date_content.0@www.greenclimate.fund
DTSTAMP:20260423T215507Z
CREATED:20220429T081140Z
DESCRIPTION:The GCF workshop on REDD+ Results-based Payments (RBPs) will ta
 ke place in Seoul\, South Korea on 4 May 2022.  \n\n\n\nThrough decision B
 .18/07 in 2017\, the Green Climate Fund Board allocated US$500 million for
  a pilot programme for REDD-plus results-based payments (RBPs). Launched i
 n October 2017 for a period of five years\, the funds were exhausted in 20
 20\, two years ahead of schedule. 
DTSTART;TZID=Asia/Seoul:20220504T000000
DTEND;TZID=Asia/Seoul:20220504T000000
LAST-MODIFIED:20220429T081140Z
LOCATION:Seoul\, South Korea
SUMMARY:GCF Workshop on REDD+ Results-based Payments
URL;TYPE=URI:https://www.greenclimate.fund/event/gcf-workshop-redd-results-
 based-payments
END:VEVENT
END:VCALENDAR
