BEGIN:VCALENDAR
VERSION:2.0
PRODID:-//Date iCal//NONSGML kigkonsult.se iCalcreator 2.20.2//
METHOD:PUBLISH
BEGIN:VTIMEZONE
TZID:Asia/Seoul
BEGIN:STANDARD
DTSTART:19881009T030000
TZOFFSETFROM:+1000
TZOFFSETTO:+0900
TZNAME:KST
END:STANDARD
END:VTIMEZONE
BEGIN:VEVENT
UID:calendar.13354.field_date_content.0@www.greenclimate.fund
DTSTAMP:20260421T235229Z
CREATED:20220304T072246Z
DESCRIPTION:9:00-11:00 GMT (Abidjan) / 12:00-14:00 EAT (Addis Ababa) / 18:0
 0-20:00 KST (Seoul)
DTSTART;TZID=Asia/Seoul:20220315T000000
DTEND;TZID=Asia/Seoul:20220315T000000
LAST-MODIFIED:20220324T085640Z
LOCATION:Virtual\, 18:00-20:00 (KST)
SUMMARY:GCF Regional Session for Direct Access Entities in Africa
URL;TYPE=URI:https://www.greenclimate.fund/event/gcf-regional-session-direc
 t-access-entities-africa
END:VEVENT
END:VCALENDAR
