BEGIN:VCALENDAR
VERSION:2.0
PRODID:-//Date iCal//NONSGML kigkonsult.se iCalcreator 2.20.2//
METHOD:PUBLISH
BEGIN:VTIMEZONE
TZID:Asia/Seoul
BEGIN:STANDARD
DTSTART:19881009T030000
TZOFFSETFROM:+1000
TZOFFSETTO:+0900
TZNAME:KST
END:STANDARD
END:VTIMEZONE
BEGIN:VEVENT
UID:calendar.13326.field_date_content.0@www.greenclimate.fund
DTSTAMP:20260420T165517Z
CREATED:20220223T081834Z
DESCRIPTION:The content of this section will soon be revised\n\n\nThe GCF B
 oard adopted the revised Accreditation Framework and associated policies a
 t its 42nd meeting (B.42). Please find here more information including on 
 where to find the adopted documents and key updates.
DTSTART;TZID=Asia/Seoul:20220308T000000
DTEND;TZID=Asia/Seoul:20220308T000000
LAST-MODIFIED:20250807T085408Z
LOCATION:Virtual
SUMMARY:GCF introductory webinars on the Digital Accreditation Platform for
  Accreditation Applicants
URL;TYPE=URI:https://www.greenclimate.fund/event/gcf-introductory-webinars-
 digital-accreditation-platform-accreditation-applicants
END:VEVENT
END:VCALENDAR
