BEGIN:VCALENDAR
VERSION:2.0
PRODID:-//Date iCal//NONSGML kigkonsult.se iCalcreator 2.20.2//
METHOD:PUBLISH
BEGIN:VTIMEZONE
TZID:Asia/Seoul
BEGIN:STANDARD
DTSTART:19881009T030000
TZOFFSETFROM:+1000
TZOFFSETTO:+0900
TZNAME:KST
END:STANDARD
END:VTIMEZONE
BEGIN:VEVENT
UID:calendar.13148.field_date_content.0@www.greenclimate.fund
DTSTAMP:20260423T202548Z
CREATED:20211124T065043Z
DESCRIPTION:In connection with the GCF Sectoral Guides Consultation launche
 d on 15 November 2021\, this webinar will present the draft GCF Sectoral G
 uide on Low Emission Transport Draft and include a Q&A session.
DTSTART;TZID=Asia/Seoul:20211207T000000
DTEND;TZID=Asia/Seoul:20211207T000000
LAST-MODIFIED:20220112T084953Z
LOCATION:Virtual
SUMMARY:Introductory webinar on the draft GCF Sectoral Guide: Low Emission 
 Transport
URL;TYPE=URI:https://www.greenclimate.fund/event/introductory-webinar-draft
 -gcf-sectoral-guide-low-emission-transport
END:VEVENT
END:VCALENDAR
