BEGIN:VCALENDAR
VERSION:2.0
PRODID:-//Date iCal//NONSGML kigkonsult.se iCalcreator 2.20.2//
METHOD:PUBLISH
BEGIN:VTIMEZONE
TZID:Asia/Seoul
BEGIN:STANDARD
DTSTART:19881009T030000
TZOFFSETFROM:+1000
TZOFFSETTO:+0900
TZNAME:KST
END:STANDARD
END:VTIMEZONE
BEGIN:VEVENT
UID:calendar.12548.field_date_content.0@www.greenclimate.fund
DTSTAMP:20260423T073931Z
CREATED:20210909T071241Z
DESCRIPTION:Join us for the 4th annual GCF Private Investment for Climate C
 onference (GPIC). A timely forerunner to COP26\, GPIC 2021 will convene gl
 obal leaders\, executives\, experts and thought leaders from business\, go
 vernments\, financial institutions\, and technology companies to accelerat
 e private sector-driven climate action in developing countries.
DTSTART;TZID=Asia/Seoul:20211018T000000
DTEND;TZID=Asia/Seoul:20211018T000000
LAST-MODIFIED:20241204T064212Z
LOCATION:Virtual event
SUMMARY:GCF Private Investment for Climate Conference 2021
URL;TYPE=URI:https://www.greenclimate.fund/event/gcf-private-investment-cli
 mate-conference-2021
END:VEVENT
END:VCALENDAR
