BEGIN:VCALENDAR
VERSION:2.0
PRODID:-//Date iCal//NONSGML kigkonsult.se iCalcreator 2.20.2//
METHOD:PUBLISH
BEGIN:VTIMEZONE
TZID:Asia/Seoul
BEGIN:STANDARD
DTSTART:19881009T030000
TZOFFSETFROM:+1000
TZOFFSETTO:+0900
TZNAME:KST
END:STANDARD
END:VTIMEZONE
BEGIN:VEVENT
UID:calendar.12344.field_date_content.0@www.greenclimate.fund
DTSTAMP:20260421T221038Z
CREATED:20210713T000208Z
DESCRIPTION:Since 2019\, the Green Climate Fund has engaged in the process 
 of developing a Sectoral Guide on “Cities\, Buildings and Urban Systems” i
 n order to provide an overview of country needs and evidence-based program
 ming experiences in this sector. The Guide aims at providing a set of ‘how
  to’ tools to National Designated Authorities and Accredited Entities to s
 upport the development of high quality and impactful funding proposals for
  consideration by the GCF Board. \n	\n	The Sectoral Guide sets up:
DTSTART;TZID=Asia/Seoul:20210716T000000
DTEND;TZID=Asia/Seoul:20210716T000000
LAST-MODIFIED:20210726T063816Z
LOCATION:Virtual
SUMMARY:Implementing the new Green Climate Fund Urban Strategy in Africa
URL;TYPE=URI:https://www.greenclimate.fund/event/implementing-new-green-cli
 mate-fund-urban-strategy-africa
END:VEVENT
END:VCALENDAR
