BEGIN:VCALENDAR
VERSION:2.0
PRODID:-//Date iCal//NONSGML kigkonsult.se iCalcreator 2.20.2//
METHOD:PUBLISH
BEGIN:VTIMEZONE
TZID:Asia/Seoul
BEGIN:STANDARD
DTSTART:19881009T030000
TZOFFSETFROM:+1000
TZOFFSETTO:+0900
TZNAME:KST
END:STANDARD
END:VTIMEZONE
BEGIN:VEVENT
UID:calendar.12208.field_date_content.0@www.greenclimate.fund
DTSTAMP:20260423T093007Z
CREATED:20210514T065505Z
DESCRIPTION:The United Nations Framework Convention on Climate Change (UNFC
 CC) established the National Adaptation Plan (NAP) process as a way to fac
 ilitate adaptation planning in least developed countries (LDCs) and other 
 developing countries. As an operating entity of the financial mechanism of
  the UNFCCC\, the Green Climate Fund (GCF) is committed to investing in de
 veloping countries’ efforts to adapt to the effects of climate change.
DTSTART;TZID=Asia/Seoul:20210603T000000
DTEND;TZID=Asia/Seoul:20210603T000000
LAST-MODIFIED:20210609T154752Z
LOCATION:Virtual
SUMMARY:Webinar on Accessing GCF Funds for Adaptation Planning\, 3 June 202
 1
URL;TYPE=URI:https://www.greenclimate.fund/event/webinar-accessing-gcf-fund
 s-adaptation-planning-3-june-2021
END:VEVENT
END:VCALENDAR
