BEGIN:VCALENDAR
VERSION:2.0
PRODID:-//Date iCal//NONSGML kigkonsult.se iCalcreator 2.20.2//
METHOD:PUBLISH
BEGIN:VTIMEZONE
TZID:Asia/Seoul
BEGIN:STANDARD
DTSTART:19881009T030000
TZOFFSETFROM:+1000
TZOFFSETTO:+0900
TZNAME:KST
END:STANDARD
END:VTIMEZONE
BEGIN:VEVENT
UID:calendar.12159.field_date_content.0@www.greenclimate.fund
DTSTAMP:20260423T094914Z
CREATED:20210408T131050Z
DESCRIPTION:Division of Country Programming in collaboration with the Adapt
 ation Fund (AF) will host the Webinar on the Community of Practice of Dire
 ct Access Entities (CPDAE) readiness proposal. The objective of the webina
 r is to introduce the CPDAE and the readiness proposal to the NDAs of the 
 countries that have entities members of CPDAE. The presentation will be co
 nducted by representatives of GCF\, AF and CPDAE committee.\n\n\n\n\n	The v
 irtual event will be conducted for 19 GCF NDAs\, 16 AF Focal points\, and 
 all GCF DAEs/NIEs.
DTSTART;TZID=Asia/Seoul:20210428T000000
DTEND;TZID=Asia/Seoul:20210428T000000
LAST-MODIFIED:20210506T011605Z
LOCATION:Virtual\, 10:00 PM - 12:00 AM KST
SUMMARY:Webinar on the Community of Practice of Direct Access Entities (CPD
 AE) readiness proposal
URL;TYPE=URI:https://www.greenclimate.fund/event/webinar-community-practice
 -direct-access-entities-cpdae-readiness-proposal
END:VEVENT
END:VCALENDAR
