BEGIN:VCALENDAR
VERSION:2.0
PRODID:-//Date iCal//NONSGML kigkonsult.se iCalcreator 2.20.2//
METHOD:PUBLISH
BEGIN:VTIMEZONE
TZID:Asia/Seoul
BEGIN:STANDARD
DTSTART:19881009T030000
TZOFFSETFROM:+1000
TZOFFSETTO:+0900
TZNAME:KST
END:STANDARD
END:VTIMEZONE
BEGIN:VEVENT
UID:calendar.12158.field_date_content.0@www.greenclimate.fund
DTSTAMP:20260423T001637Z
CREATED:20210408T130359Z
DESCRIPTION:In connection with the Draft GCF Sectoral Guides Consultation l
 aunched on 30 March 2021 to 30 June 2021\, this webinar will present the d
 raft GCF Sectoral Guide on Energy Generation & Access\, followed by a Q&A 
 session.
DTSTART;TZID=Asia/Seoul:20210429T000000
DTEND;TZID=Asia/Seoul:20210429T000000
LAST-MODIFIED:20220922T093603Z
LOCATION:Virtual
SUMMARY:Introductory webinar on the draft GCF Sectoral Guide: Energy Genera
 tion & Access
URL;TYPE=URI:https://www.greenclimate.fund/event/introductory-webinar-draft
 -gcf-sectoral-guide-energy-generation-access
END:VEVENT
END:VCALENDAR
