BEGIN:VCALENDAR
VERSION:2.0
PRODID:-//Date iCal//NONSGML kigkonsult.se iCalcreator 2.20.2//
METHOD:PUBLISH
BEGIN:VTIMEZONE
TZID:Asia/Seoul
BEGIN:STANDARD
DTSTART:19881009T030000
TZOFFSETFROM:+1000
TZOFFSETTO:+0900
TZNAME:KST
END:STANDARD
END:VTIMEZONE
BEGIN:VEVENT
UID:calendar.12077.field_date_content.0@www.greenclimate.fund
DTSTAMP:20260423T215537Z
CREATED:20210325T090802Z
DESCRIPTION:Following the publication of the Methodology for establishing a
  baseline of greenhouse gas emissions and climate resilience for the portf
 olio of accredited entities (AEs) presented at the B.28\, the Green Climat
 e Fund (GCF) Entities Team is organizing a training workshop for relevant 
 stakeholders\, to be held on 8 April 2021 at the following times:\n\n\n\nS
 ession 1: Thursday\, 8 April 2021\, 8.00 a.m. KST\n	Time is applicable for 
 AEs based in Pacific\, LAC countries
DTSTART;TZID=Asia/Seoul:20210408T000000
DTEND;TZID=Asia/Seoul:20210408T000000
LAST-MODIFIED:20210412T090304Z
LOCATION:Virtual
SUMMARY:Training Workshop on the Methodology for establishing a baseline of
  greenhouse gas emissions and climate resilience for the portfolio of accr
 edited entities (AEs)
URL;TYPE=URI:https://www.greenclimate.fund/event/training-workshop-methodol
 ogy-establishing-baseline-greenhouse-gas-emissions-and-climate
END:VEVENT
END:VCALENDAR
