BEGIN:VCALENDAR
VERSION:2.0
PRODID:-//Date iCal//NONSGML kigkonsult.se iCalcreator 2.20.2//
METHOD:PUBLISH
BEGIN:VTIMEZONE
TZID:Asia/Seoul
BEGIN:STANDARD
DTSTART:19881009T030000
TZOFFSETFROM:+1000
TZOFFSETTO:+0900
TZNAME:KST
END:STANDARD
END:VTIMEZONE
BEGIN:VEVENT
UID:calendar.12023.field_date_content.0@www.greenclimate.fund
DTSTAMP:20260419T130812Z
CREATED:20210323T031351Z
DESCRIPTION:The Green Climate Fund (GCF) is delighted to host the Internati
 onal Financial Institutions (IFI) Knowledge Management Community of Practi
 ce (COP) Spring Meeting\, to be held on 21-22 April 2021 at 8:00 a.m. EST 
 / 1:00 p.m. GMT / 9:00 p.m. KST.\n\n\n\nAs agreed at the 2020 Annual Inter
 national Financial Institutions Knowledge Management COP Annual Workshop\,
  held on 2-4 December 2020\, KM Metrics will be the focus of the Spring me
 eting.
DTSTART;TZID=Asia/Seoul:20210421T000000
DTEND;TZID=Asia/Seoul:20210421T000000
LAST-MODIFIED:20210430T104322Z
LOCATION:Virtual\, 9:00 PM KST
SUMMARY:International Financial Institutions Knowledge Management Community
  of Practice (COP) Spring Meeting
URL;TYPE=URI:https://www.greenclimate.fund/event/international-financial-in
 stitutions-knowledge-management-community-practice-cop-spring
END:VEVENT
END:VCALENDAR
