BEGIN:VCALENDAR
VERSION:2.0
PRODID:-//Date iCal//NONSGML kigkonsult.se iCalcreator 2.20.2//
METHOD:PUBLISH
BEGIN:VTIMEZONE
TZID:Asia/Seoul
BEGIN:STANDARD
DTSTART:19881009T030000
TZOFFSETFROM:+1000
TZOFFSETTO:+0900
TZNAME:KST
END:STANDARD
END:VTIMEZONE
BEGIN:VEVENT
UID:calendar.11858.field_date_content.0@www.greenclimate.fund
DTSTAMP:20260421T102035Z
CREATED:20210217T020523Z
DTSTART;TZID=Asia/Seoul:20210316T000000
DTEND;TZID=Asia/Seoul:20210316T000000
LAST-MODIFIED:20210503T061219Z
LOCATION:Virtual
SUMMARY:Twenty-eighth meeting of the GCF Board (B.28)
URL;TYPE=URI:https://www.greenclimate.fund/boardroom/meeting/b28
END:VEVENT
END:VCALENDAR
