BEGIN:VCALENDAR
VERSION:2.0
PRODID:-//Date iCal//NONSGML kigkonsult.se iCalcreator 2.20.2//
METHOD:PUBLISH
BEGIN:VTIMEZONE
TZID:Asia/Seoul
BEGIN:STANDARD
DTSTART:19881009T030000
TZOFFSETFROM:+1000
TZOFFSETTO:+0900
TZNAME:KST
END:STANDARD
END:VTIMEZONE
BEGIN:VEVENT
UID:calendar.11854.field_date_content.0@www.greenclimate.fund
DTSTAMP:20260422T025502Z
CREATED:20210216T085607Z
DESCRIPTION:The Green Climate Fund will host a webinar on the recently publ
 ished GCF Country Programme Guidance.
DTSTART;TZID=Asia/Seoul:20210224T000000
DTEND;TZID=Asia/Seoul:20210224T000000
LAST-MODIFIED:20210303T032630Z
LOCATION:Virtual
SUMMARY:Introductory Webinar on GCF Country Programme Guidance
URL;TYPE=URI:https://www.greenclimate.fund/event/introductory-webinar-gcf-c
 ountry-programme-guidance
END:VEVENT
END:VCALENDAR
