BEGIN:VCALENDAR
VERSION:2.0
PRODID:-//Date iCal//NONSGML kigkonsult.se iCalcreator 2.20.2//
METHOD:PUBLISH
BEGIN:VTIMEZONE
TZID:Asia/Seoul
BEGIN:STANDARD
DTSTART:19881009T030000
TZOFFSETFROM:+1000
TZOFFSETTO:+0900
TZNAME:KST
END:STANDARD
END:VTIMEZONE
BEGIN:VEVENT
UID:calendar.11799.field_date_content.0@www.greenclimate.fund
DTSTAMP:20260422T011420Z
CREATED:20210118T082545Z
DESCRIPTION:On 1 January 2021\, the GCF Secretariat launched the Digital Ac
 creditation Platform (DAP) – a one-stop shop for Accredited Entities (AEs)
  to address all stages in the lifecycle related to accreditation - for AEs
  to submit online their AE-level reports. \n\n\n\nFollowing the launch\, t
 he GCF Secretariat is organizing a series of webinars to introduce you to 
 the DAP and provide practical guidance on how your organization can prepar
 e and submit the relevant AE-level reports on the DAP and how to access th
 e GCF’s feedback and respond to such feedback through the DAP. 
DTSTART;TZID=Asia/Seoul:20210120T000000
DTEND;TZID=Asia/Seoul:20210120T000000
LAST-MODIFIED:20210118T090456Z
LOCATION:Virtual
SUMMARY:GCF Webinars on Accredited Entity-level reporting on the Digital Ac
 creditation Platform (DAP)
URL;TYPE=URI:https://www.greenclimate.fund/event/gcf-webinars-accredited-en
 tity-level-reporting-digital-accreditation-platform-dap
END:VEVENT
END:VCALENDAR
