BEGIN:VCALENDAR
VERSION:2.0
PRODID:-//Date iCal//NONSGML kigkonsult.se iCalcreator 2.20.2//
METHOD:PUBLISH
BEGIN:VTIMEZONE
TZID:Asia/Seoul
BEGIN:STANDARD
DTSTART:19881009T030000
TZOFFSETFROM:+1000
TZOFFSETTO:+0900
TZNAME:KST
END:STANDARD
END:VTIMEZONE
BEGIN:VEVENT
UID:calendar.11795.field_date_content.0@www.greenclimate.fund
DTSTAMP:20260422T023128Z
CREATED:20210115T025552Z
DESCRIPTION:Division of Country Programming will host the Transformational 
 Climate Financing for the Caribbean Region​al Engagement\, to be held as a
  virtual event on 1-5 March 2021.\n\n\n\nThis event will provide a platfor
 m for engagement with National Designated Authorities\,  Accredited  Entit
 ies\,  Delivery  Partners and other relevant GCF Stakeholders to improve a
 ccess to and mobilization of urgently needed climate finance via developme
 nt of innovative and transformation​al projects for a low-carbon and clima
 te-resilient Caribbean.
DTSTART;TZID=Asia/Seoul:20210301T000000
DTEND;TZID=Asia/Seoul:20210301T000000
LAST-MODIFIED:20210518T074259Z
LOCATION:Virtual
SUMMARY:Transformational Climate Financing for the Caribbean Region​al Enga
 gement
URL;TYPE=URI:https://www.greenclimate.fund/event/transformational-climate-f
 inancing-caribbean-region-al-engagement
END:VEVENT
END:VCALENDAR
