BEGIN:VCALENDAR
VERSION:2.0
PRODID:-//Date iCal//NONSGML kigkonsult.se iCalcreator 2.20.2//
METHOD:PUBLISH
BEGIN:VTIMEZONE
TZID:Asia/Seoul
BEGIN:STANDARD
DTSTART:19881009T030000
TZOFFSETFROM:+1000
TZOFFSETTO:+0900
TZNAME:KST
END:STANDARD
END:VTIMEZONE
BEGIN:VEVENT
UID:calendar.11672.field_date_content.0@www.greenclimate.fund
DTSTAMP:20260422T011239Z
CREATED:20201117T053907Z
DESCRIPTION:In connection with the GCF Sectoral Guides Consultation launche
 d on 9 November 2020\, this webinar will present the draft GCF Sectoral Gu
 ide on Cities\, Buildings and Urban Systems and include a Q&A session.
DTSTART;TZID=Asia/Seoul:20201124T000000
DTEND;TZID=Asia/Seoul:20201124T000000
LAST-MODIFIED:20220922T093641Z
LOCATION:Virtual
SUMMARY:Introductory webinar on the GCF Sectoral Guide: Cities\, Buildings 
 and Urban Systems
URL;TYPE=URI:https://www.greenclimate.fund/event/introductory-webinar-gcf-s
 ectoral-guide-cities-buildings-and-urban-systems
END:VEVENT
END:VCALENDAR
