BEGIN:VCALENDAR
VERSION:2.0
PRODID:-//Date iCal//NONSGML kigkonsult.se iCalcreator 2.20.2//
METHOD:PUBLISH
BEGIN:VTIMEZONE
TZID:Asia/Seoul
BEGIN:STANDARD
DTSTART:19881009T030000
TZOFFSETFROM:+1000
TZOFFSETTO:+0900
TZNAME:KST
END:STANDARD
END:VTIMEZONE
BEGIN:VEVENT
UID:calendar.11547.field_date_content.0@www.greenclimate.fund
DTSTAMP:20260421T234435Z
CREATED:20201030T045511Z
DESCRIPTION:GCF is hosting a webinar for national designated authorities (N
 DA) and direct access entities (DAE) of the Asian countries to engage in a
  technical discussion on programming and resources available through Readi
 ness the Preparatory Support Programme (RPSP) and Project Preparation Faci
 lity (PPF). NDAs and DAEs will receive the latest programme updates that c
 an assist in planning and prioritizing with GCF in 2021 and throughout GCF
 -1 (2020-2023). 
DTSTART;TZID=Asia/Seoul:20201130T000000
DTEND;TZID=Asia/Seoul:20201130T000000
LAST-MODIFIED:20201202T055123Z
LOCATION:Virtual 3:00 PM KST
SUMMARY:GCF Programming Webinar for Asia
URL;TYPE=URI:https://www.greenclimate.fund/event/gcf-programming-webinar-as
 ia
END:VEVENT
END:VCALENDAR
