BEGIN:VCALENDAR
VERSION:2.0
PRODID:-//Date iCal//NONSGML kigkonsult.se iCalcreator 2.20.2//
METHOD:PUBLISH
BEGIN:VTIMEZONE
TZID:Asia/Seoul
BEGIN:STANDARD
DTSTART:19881009T030000
TZOFFSETFROM:+1000
TZOFFSETTO:+0900
TZNAME:KST
END:STANDARD
END:VTIMEZONE
BEGIN:VEVENT
UID:calendar.11538.field_date_content.0@www.greenclimate.fund
DTSTAMP:20260423T215438Z
CREATED:20201028T075843Z
DESCRIPTION:The Green Climate Fund (GCF)’s Head of Knowledge and Change Man
 agement\, George Zedginidze\, is the 2020 coordinator for the Internationa
 l Financial Institutions Knowledge Management Community of Practice. As su
 ch\, GCF is organizing the Second Annual Workshop of the Community of Prac
 tice.
DTSTART;TZID=Asia/Seoul:20201202T000000
DTEND;TZID=Asia/Seoul:20201202T000000
LAST-MODIFIED:20201028T075909Z
LOCATION:Virtual 10:00 PM - 2:00 AM KST
SUMMARY:International Financial Institutions Knowledge Management Workshop
URL;TYPE=URI:https://www.greenclimate.fund/event/international-financial-in
 stitutions-knowledge-management-workshop
END:VEVENT
END:VCALENDAR
