BEGIN:VCALENDAR
VERSION:2.0
PRODID:-//Date iCal//NONSGML kigkonsult.se iCalcreator 2.20.2//
METHOD:PUBLISH
BEGIN:VTIMEZONE
TZID:Asia/Seoul
BEGIN:STANDARD
DTSTART:19881009T030000
TZOFFSETFROM:+1000
TZOFFSETTO:+0900
TZNAME:KST
END:STANDARD
END:VTIMEZONE
BEGIN:VEVENT
UID:calendar.11537.field_date_content.0@www.greenclimate.fund
DTSTAMP:20260422T011513Z
CREATED:20201028T074250Z
DESCRIPTION:The webinar seeks to provide detailed guidance regarding the Pr
 oject Preparation Facility (PPF) overall\, including updates with respect 
 to process as well as two recently added features: PPF Simplified funding 
 and the PPF service.\n\n\nThose updates have been integrated in the update
 d PPF Guidelines now available online. \n\n\nThe webinar programme will co
 ver the following aspects:
DTSTART;TZID=Asia/Seoul:20201117T000000
DTEND;TZID=Asia/Seoul:20201117T000000
LAST-MODIFIED:20201124T064217Z
LOCATION:Virtual
SUMMARY:Updated GCF Project Preparation Facility Guidelines
URL;TYPE=URI:https://www.greenclimate.fund/event/updated-gcf-project-prepar
 ation-facility-guidelines
END:VEVENT
END:VCALENDAR
