BEGIN:VCALENDAR
VERSION:2.0
PRODID:-//Date iCal//NONSGML kigkonsult.se iCalcreator 2.20.2//
METHOD:PUBLISH
BEGIN:VTIMEZONE
TZID:Asia/Seoul
BEGIN:STANDARD
DTSTART:19881009T030000
TZOFFSETFROM:+1000
TZOFFSETTO:+0900
TZNAME:KST
END:STANDARD
END:VTIMEZONE
BEGIN:VEVENT
UID:calendar.11452.field_date_content.0@www.greenclimate.fund
DTSTAMP:20260424T082307Z
CREATED:20201022T093210Z
DESCRIPTION:This virtual side event of the third annual GCF Private Investm
 ent for Climate Conference provides participants with an understanding on 
 how countries\, GCF accredited entities and partners proposing private sec
 tor investments to the GCF can benefit from the use of the GCF Simplified 
 Approval Process (SAP) modality.
DTSTART;TZID=Asia/Seoul:20201015T000000
DTEND;TZID=Asia/Seoul:20201015T000000
LAST-MODIFIED:20201026T052148Z
LOCATION:Virtual
SUMMARY:Introduction to Simplified Approval Process and the Private Sector
URL;TYPE=URI:https://www.greenclimate.fund/event/introduction-simplified-ap
 proval-process-and-private-sector
END:VEVENT
END:VCALENDAR
