BEGIN:VCALENDAR
VERSION:2.0
PRODID:-//Date iCal//NONSGML kigkonsult.se iCalcreator 2.20.2//
METHOD:PUBLISH
BEGIN:VTIMEZONE
TZID:Asia/Seoul
BEGIN:STANDARD
DTSTART:19881009T030000
TZOFFSETFROM:+1000
TZOFFSETTO:+0900
TZNAME:KST
END:STANDARD
END:VTIMEZONE
BEGIN:VEVENT
UID:calendar.11340.field_date_content.0@www.greenclimate.fund
DTSTAMP:20260421T084712Z
CREATED:20200909T031815Z
DESCRIPTION:Tipping point or turning point: Global solidarity for an inclus
 ive\, resilient recovery
DTSTART;TZID=Asia/Seoul:20200918T000000
DTEND;TZID=Asia/Seoul:20200918T000000
LAST-MODIFIED:20200923T061307Z
LOCATION:Virtual event\, 8:00AM - 10:00AM EDT
SUMMARY:GCF leadership dialogue in the margins of the 75th United Nations G
 eneral Assembly
URL;TYPE=URI:https://www.greenclimate.fund/event/gcf-leadership-dialogue-75
 th-united-nations-general-assembly
END:VEVENT
END:VCALENDAR
