BEGIN:VCALENDAR
VERSION:2.0
PRODID:-//Date iCal//NONSGML kigkonsult.se iCalcreator 2.20.2//
METHOD:PUBLISH
BEGIN:VTIMEZONE
TZID:Asia/Seoul
BEGIN:STANDARD
DTSTART:19881009T030000
TZOFFSETFROM:+1000
TZOFFSETTO:+0900
TZNAME:KST
END:STANDARD
END:VTIMEZONE
BEGIN:VEVENT
UID:calendar.11314.field_date_content.0@www.greenclimate.fund
DTSTAMP:20260422T031442Z
CREATED:20200904T082034Z
DESCRIPTION:The third annual GCF Private Investment for Climate Conference 
 (GPIC) explored how to generate the private sector investments needed to c
 reate bold solutions to deal with the twin challenges of climate change an
 d COVID-19.\n\n\nBringing together leading private and public sector actor
 s - including financial institutions\, governments\, project developers\, 
 climate leaders and development banks - this virtual gathering provided a 
 timely opportunity to share experiences\, innovations and best practices f
 or scaling up public-private partnerships.
DTSTART;TZID=Asia/Seoul:20201014T000000
DTEND;TZID=Asia/Seoul:20201014T000000
LAST-MODIFIED:20241204T064212Z
LOCATION:Virtual event
SUMMARY:GCF Private Investment for Climate Conference 2020
URL;TYPE=URI:https://www.greenclimate.fund/event/gcf-private-investment-cli
 mate-conference-2020
END:VEVENT
END:VCALENDAR
