BEGIN:VCALENDAR
VERSION:2.0
PRODID:-//Date iCal//NONSGML kigkonsult.se iCalcreator 2.20.2//
METHOD:PUBLISH
BEGIN:VTIMEZONE
TZID:Asia/Seoul
BEGIN:STANDARD
DTSTART:19881009T030000
TZOFFSETFROM:+1000
TZOFFSETTO:+0900
TZNAME:KST
END:STANDARD
END:VTIMEZONE
BEGIN:VEVENT
UID:calendar.11313.field_date_content.0@www.greenclimate.fund
DTSTAMP:20260421T100435Z
CREATED:20200904T064959Z
DESCRIPTION:The Ministry of Economy and Finance of the Republic of Korea an
 d the Green Climate Fund (GCF) are co-hosting the International Conference
  on the Green New Deal: Green stimulus in the post-COVID-19 Era and beyond
 .
DTSTART;TZID=Asia/Seoul:20200917T000000
DTEND;TZID=Asia/Seoul:20200917T000000
LAST-MODIFIED:20201005T025233Z
LOCATION:Virtual event\, 1:30PM - 5:10PM KST
SUMMARY:International Conference on the Green New Deal: Green stimulus in t
 he post-COVID-19 Era and beyond
URL;TYPE=URI:https://www.greenclimate.fund/event/international-conference-g
 reen-new-deal-green-stimulus-post-covid-19-era-and-beyond
END:VEVENT
END:VCALENDAR
