BEGIN:VCALENDAR
VERSION:2.0
PRODID:-//Date iCal//NONSGML kigkonsult.se iCalcreator 2.20.2//
METHOD:PUBLISH
BEGIN:VTIMEZONE
TZID:Asia/Seoul
BEGIN:STANDARD
DTSTART:19881009T030000
TZOFFSETFROM:+1000
TZOFFSETTO:+0900
TZNAME:KST
END:STANDARD
END:VTIMEZONE
BEGIN:VEVENT
UID:calendar.11312.field_date_content.0@www.greenclimate.fund
DTSTAMP:20260423T193006Z
CREATED:20200904T034126Z
DESCRIPTION:Following the announcement of GCF Support to Climate Resilient 
 Recovery\, the webinar will provide the opportunity to clarify any questio
 ns that National Designated Authorities and other partners have regarding 
 such support. 
DTSTART;TZID=Asia/Seoul:20200909T000000
DTEND;TZID=Asia/Seoul:20200909T000000
LAST-MODIFIED:20241204T064212Z
LOCATION:Online
SUMMARY:GCF Support to Climate Resilient Recovery
URL;TYPE=URI:https://www.greenclimate.fund/event/gcf-support-climate-resili
 ent-recovery
END:VEVENT
END:VCALENDAR
