BEGIN:VCALENDAR
VERSION:2.0
PRODID:-//Date iCal//NONSGML kigkonsult.se iCalcreator 2.20.2//
METHOD:PUBLISH
BEGIN:VTIMEZONE
TZID:Asia/Seoul
BEGIN:STANDARD
DTSTART:19881009T030000
TZOFFSETFROM:+1000
TZOFFSETTO:+0900
TZNAME:KST
END:STANDARD
END:VTIMEZONE
BEGIN:VEVENT
UID:calendar.11311.field_date_content.0@www.greenclimate.fund
DTSTAMP:20260424T095540Z
CREATED:20200904T033813Z
DESCRIPTION:As a result of the Board decision on the revised Readiness and 
 Preparatory Programme (RPSP) strategy for 2019-2021\, the RPSP guidebook i
 s expanded with additional information and guidance to address the substan
 tive and operational changes authorized by the Board. This webinar present
 ed the new proposal templates and updated RPSP guidebook.
DTSTART;TZID=Asia/Seoul:20200416T000000
DTEND;TZID=Asia/Seoul:20200416T000000
LAST-MODIFIED:20241204T064212Z
LOCATION:Virtual event
SUMMARY:Webinar on the updated Readiness and Preparatory Support Programme
URL;TYPE=URI:https://www.greenclimate.fund/event/webinar-updated-readiness-
 and-preparatory-support-programme
END:VEVENT
END:VCALENDAR
