BEGIN:VCALENDAR
VERSION:2.0
PRODID:-//Date iCal//NONSGML kigkonsult.se iCalcreator 2.20.2//
METHOD:PUBLISH
BEGIN:VTIMEZONE
TZID:Asia/Seoul
BEGIN:STANDARD
DTSTART:19881009T030000
TZOFFSETFROM:+1000
TZOFFSETTO:+0900
TZNAME:KST
END:STANDARD
END:VTIMEZONE
BEGIN:VEVENT
UID:calendar.11307.field_date_content.0@www.greenclimate.fund
DTSTAMP:20260424T044234Z
CREATED:20200902T012524Z
DESCRIPTION:GCF recognizes that significant investment is needed to build c
 limate information\, early warning\, and disaster risk reduction services 
 in order to support countries adapt to the impacts of climate change and d
 evelop transformative projects for climate action.
DTSTART;TZID=Asia/Seoul:20190516T000000
DTEND;TZID=Asia/Seoul:20190516T000000
LAST-MODIFIED:20200902T021204Z
LOCATION:Geneva\, Switzerland
SUMMARY:GCF Technical Expert Meeting on Climate Information\, Early Warning
  and Disaster Risk Reduction Services
URL;TYPE=URI:https://www.greenclimate.fund/event/gcf-technical-expert-meeti
 ng-climate-information-early-warning-and-disaster-risk-reduction
END:VEVENT
END:VCALENDAR
