BEGIN:VCALENDAR
VERSION:2.0
PRODID:-//Date iCal//NONSGML kigkonsult.se iCalcreator 2.20.2//
METHOD:PUBLISH
BEGIN:VTIMEZONE
TZID:Asia/Seoul
BEGIN:STANDARD
DTSTART:19881009T030000
TZOFFSETFROM:+1000
TZOFFSETTO:+0900
TZNAME:KST
END:STANDARD
END:VTIMEZONE
BEGIN:VEVENT
UID:calendar.11304.field_date_content.0@www.greenclimate.fund
DTSTAMP:20260422T171713Z
CREATED:20200901T215322Z
DESCRIPTION:In order to provide support to adaptation activities more effec
 tively\, the GCF Board requested the Secretariat through its decision B.17
 /10 to develop a proposal for the GCF’s “guidance on approach and scope fo
 r providing support to adaptation activities”. To formulate this proposal\
 , the Secretariat utilized different methods to gather inputs from various
  sources including engaging the World Resources Institute to perform backg
 round research and consulting the GCF’s Private Sector Advisory Group.
DTSTART;TZID=Asia/Seoul:20180305T000000
DTEND;TZID=Asia/Seoul:20180305T000000
LAST-MODIFIED:20200901T215322Z
LOCATION:Songdo\, Incheon\, Republic of Korea
SUMMARY:GCF Technical Expert Workshop on Climate Adaptation Finance
URL;TYPE=URI:https://www.greenclimate.fund/event/gcf-technical-expert-works
 hop-climate-adaptation-finance
END:VEVENT
END:VCALENDAR
