BEGIN:VCALENDAR
VERSION:2.0
PRODID:-//Date iCal//NONSGML kigkonsult.se iCalcreator 2.20.2//
METHOD:PUBLISH
BEGIN:VTIMEZONE
TZID:Asia/Seoul
BEGIN:STANDARD
DTSTART:19881009T030000
TZOFFSETFROM:+1000
TZOFFSETTO:+0900
TZNAME:KST
END:STANDARD
END:VTIMEZONE
BEGIN:VEVENT
UID:calendar.11214.field_date_content.0@www.greenclimate.fund
DTSTAMP:20260419T130452Z
CREATED:20200812T082214Z
DESCRIPTION:The Green Climate Fund’s first conference focusing exclusively 
 on the private sector opens today in Incheon\, the Republic of Korea.\n\n
 \n\nThe two-day Private Investment for Climate Conference addresses the ne
 ed to capture the energies and entrepreneurship of businesses in tackling 
 the climate challenge\, and comes on the heels of a seminal UN report high
 lighting the urgency of action needed to keep global warming to below 1.5 
 degrees Celsius.
DTSTART;TZID=Asia/Seoul:20181010T000000
DTEND;TZID=Asia/Seoul:20181010T000000
LAST-MODIFIED:20220725T104454Z
LOCATION:Incheon\, Republic of Korea
SUMMARY:GCF Private Investment for Climate Conference 2018
URL;TYPE=URI:https://www.greenclimate.fund/event/gcf-private-investment-cli
 mate-conference-2018
END:VEVENT
END:VCALENDAR
