BEGIN:VCALENDAR
VERSION:2.0
PRODID:-//Date iCal//NONSGML kigkonsult.se iCalcreator 2.20.2//
METHOD:PUBLISH
BEGIN:VTIMEZONE
TZID:Asia/Seoul
BEGIN:STANDARD
DTSTART:19881009T030000
TZOFFSETFROM:+1000
TZOFFSETTO:+0900
TZNAME:KST
END:STANDARD
END:VTIMEZONE
BEGIN:VEVENT
UID:calendar.11045.field_date_content.0@www.greenclimate.fund
DTSTAMP:20260421T040223Z
CREATED:20200624T045637Z
DESCRIPTION:As the world’s largest dedicated climate fund supporting develo
 ping countries respond to the challenge of climate change\, GCF has a vita
 l role to play in implementing the Paris Agreement and SDGs. Committed to 
 both adaptation and mitigation\, GCF can tailor investments to address the
  specific barriers faced by developing countries and offers a range of fin
 ancing instruments\, including grants\, guarantees and equity\, to structu
 re investments so they do not exacerbate debt burdens.
DTSTART;TZID=Asia/Seoul:20200709T000000
DTEND;TZID=Asia/Seoul:20200709T000000
LAST-MODIFIED:20241204T064212Z
LOCATION:Zoom meeting\, 8:00AM - 9:30AM EDT
SUMMARY:At a turning point: Catalysing climate finance in the era of COVID-
 19
URL;TYPE=URI:https://www.greenclimate.fund/event/turning-point-catalysing-c
 limate-finance-era-covid-19
END:VEVENT
END:VCALENDAR
