BEGIN:VCALENDAR
VERSION:2.0
PRODID:-//Date iCal//NONSGML kigkonsult.se iCalcreator 2.20.2//
METHOD:PUBLISH
BEGIN:VTIMEZONE
TZID:Asia/Seoul
BEGIN:STANDARD
DTSTART:19881009T030000
TZOFFSETFROM:+1000
TZOFFSETTO:+0900
TZNAME:KST
END:STANDARD
END:VTIMEZONE
BEGIN:VEVENT
UID:calendar.10490.field_date_content.0@www.greenclimate.fund
DTSTAMP:20260422T061826Z
CREATED:20200204T124736Z
DESCRIPTION:The shared urgency of addressing climate change took an histori
 c step forward with 27 countries pledging to replenish the Green Climate F
 und (GCF) by USD 9.78 billion equivalent for the next four years. The reso
 urces will help developing countries reduce greenhouse gas emissions and a
 dapt to the negative effects of global warming\, such as rising sea levels
 \, record temperatures\, prolonged drought\, and more frequent and severe 
 weather events.
DTSTART;TZID=Asia/Seoul:20191024T000000
DTEND;TZID=Asia/Seoul:20191024T000000
LAST-MODIFIED:20200205T132555Z
LOCATION:Paris\, France
SUMMARY:Pledging Conference for GCF's First Replenishment
URL;TYPE=URI:https://www.greenclimate.fund/event/pledging-conference
END:VEVENT
END:VCALENDAR
